BEGIN:VCALENDAR
VERSION:2.0
PRODID:-//Sabre//Sabre VObject 4.5.7//EN
CALSCALE:GREGORIAN
BEGIN:VEVENT
UID:sabre-vobject-26adb2d6-9e5f-4a50-9360-b1c502ad6afb
DTSTAMP:20260424T084451Z
SUMMARY:Pflanzenfarben fürs Osternest
DESCRIPTION:https://haus-im-moos.de/pflanzenfarben-fuers-osternest_id170
DTSTART;TZID=Europe/Berlin:20250405T143000
DTEND;TZID=Europe/Berlin:20250405T163000
LOCATION:Haus im Moos\, Kleinhohenried 108\, 86668 Karlshuld
END:VEVENT
END:VCALENDAR
