BEGIN:VCALENDAR
VERSION:2.0
PRODID:-//Sabre//Sabre VObject 4.5.7//EN
CALSCALE:GREGORIAN
BEGIN:VEVENT
UID:sabre-vobject-2c814333-8ea2-486f-b398-8a422b0da1c4
DTSTAMP:20260424T103830Z
SUMMARY:Die Sammlung in der Putzerei
DESCRIPTION:https://haus-im-moos.de/die-sammlung-in-der-putzerei_id190
DTSTART;TZID=Europe/Berlin:20250327T170000
LOCATION:Theresienbau\, Hauptstraße 27\, 86668 Karlshuld
END:VEVENT
END:VCALENDAR
