BEGIN:VCALENDAR
VERSION:2.0
PRODID:-//Sabre//Sabre VObject 4.5.7//EN
CALSCALE:GREGORIAN
BEGIN:VEVENT
UID:sabre-vobject-a66a7c2c-cadb-4bcc-ae68-b022cfbbec39
DTSTAMP:20260422T112629Z
SUMMARY:Ein Heim für Fledermäuse. Fledermaus-Nistkasten selber bauen
DESCRIPTION:https://haus-im-moos.de/ein-heim-fuer-fledermaeuse-fledermaus-n
 istkasten-selber-bauen_id293
DTSTART;TZID=Europe/Berlin:20260509T110000
DTEND;TZID=Europe/Berlin:20260509T123000
LOCATION:Haus im Moos\, Kleinhohenried 108\, 86668 Karlshuld
END:VEVENT
END:VCALENDAR
