BEGIN:VCALENDAR
VERSION:2.0
PRODID:-//Sabre//Sabre VObject 4.5.7//EN
CALSCALE:GREGORIAN
BEGIN:VEVENT
UID:sabre-vobject-c4d37f87-45fd-4b7b-911f-5dec39d2ef93
DTSTAMP:20260425T120940Z
SUMMARY:Wiesenbrüter im Donaumoos
DESCRIPTION:https://haus-im-moos.de/wiesenbrueter-im-donaumoos_id294
DTSTART;TZID=Europe/Berlin:20260426T160000
DTEND;TZID=Europe/Berlin:20260426T173000
LOCATION:Haus im Moos\, Kleinhohenried 108\, 86668 Karlshuld
END:VEVENT
END:VCALENDAR
